BEGIN:VCALENDAR
VERSION:2.0
PRODID:-//Maine Mariners//www.marinersofmaine.com//EN
CALSCALE:GREGORIAN
BEGIN:VEVENT
UID:https://www.marinersofmaine.com/games/2026/04/24/adirondack-thunder
DTSTAMP:20260420T042816Z
SUMMARY:Adirondack Thunder @ Maine Mariners
DTSTART;TZID=Canada/Eastern:20260424T180000
DTEND;TZID=Canada/Eastern:20260424T210000
DESCRIPTION:Adirondack Thunder at Maine Mariners
LOCATION:Cross Insurance Arena\, Portland\, Maine
URL;VALUE=URI:https://www.marinersofmaine.com/games/2026/04/24/adirondack-t
 hunder
END:VEVENT
END:VCALENDAR
