BEGIN:VCALENDAR
VERSION:2.0
PRODID:-//Maine Mariners//www.marinersofmaine.com//EN
CALSCALE:GREGORIAN
BEGIN:VEVENT
UID:https://www.marinersofmaine.com/games/2026/04/24/north-division-semifin
 als-game-1
DTSTAMP:20260420T193829Z
SUMMARY:North Division Semifinals\, Game 1
DTSTART;TZID=Canada/Eastern:20260424T180000
DTEND;TZID=Canada/Eastern:20260424T210000
DESCRIPTION:Adirondack Thunder at Maine Mariners
LOCATION:Cross Insurance Arena\, Portland\, Maine
URL;VALUE=URI:https://www.marinersofmaine.com/games/2026/04/24/north-divisi
 on-semifinals-game-1
END:VEVENT
END:VCALENDAR
