BEGIN:VCALENDAR
VERSION:2.0
PRODID:-//Maine Mariners//www.marinersofmaine.com//EN
CALSCALE:GREGORIAN
BEGIN:VEVENT
UID:https://www.marinersofmaine.com/games/2026/04/25/north-division-semifin
 als-game-2
DTSTAMP:20260420T194121Z
SUMMARY:North Division Semifinals\, Game 2
DTSTART;TZID=Canada/Eastern:20260425T180000
DTEND;TZID=Canada/Eastern:20260425T210000
DESCRIPTION:Adirondack Thunder at Maine Mariners
LOCATION:Cross Insurance Arena\, Portland\, Maine
URL;VALUE=URI:https://www.marinersofmaine.com/games/2026/04/25/north-divisi
 on-semifinals-game-2
END:VEVENT
END:VCALENDAR
