BEGIN:VCALENDAR
VERSION:2.0
PRODID:-//Maine Mariners//www.marinersofmaine.com//EN
CALSCALE:GREGORIAN
BEGIN:VEVENT
UID:https://www.marinersofmaine.com/games/2026/05/01/adirondack-thunder
DTSTAMP:20260420T124922Z
SUMMARY:Maine Mariners @ Adirondack Thunder
DTSTART;TZID=Canada/Eastern:20260501T190000
DTEND;TZID=Canada/Eastern:20260501T220000
DESCRIPTION:Maine Mariners at Adirondack Thunder
LOCATION:Harding Mazzotti Arena\, Glens Falls\, New York
URL;VALUE=URI:https://www.marinersofmaine.com/games/2026/05/01/adirondack-t
 hunder
END:VEVENT
END:VCALENDAR
